BEGIN:VCALENDAR
VERSION:2.0
PRODID:LFV Website-Kit
METHOD:PUBLISH
BEGIN:VEVENT
UID:lfv-1db4ec38-cfe7-4e52-a6d6-b56643aadd78
LOCATION:Obereichstätt
SUMMARY:150 Jahre Freiwillige Feuerwehr Obereichstätt
DESCRIPTION:150 Jahre Freiwillige Feuerwehr Obereichstätt\n\nTermin Link: https://www.kfv-eichstaett.de/termine/150-jahre-freiwillige-feuerwehr-obereichstatt/
URL:https://www.kfv-eichstaett.de/termine/150-jahre-freiwillige-feuerwehr-obereichstatt/
CLASS:PRIVATE
DTSTART;TZID=Europe/Berlin:20300712T170000
DTEND;TZID=Europe/Berlin:20300714T230000
DTSTAMP:20260421T054713Z
END:VEVENT
END:VCALENDAR